BEGIN:VCALENDAR
PRODID:-//eluceo/ical//2.0/EN
VERSION:2.0
CALSCALE:GREGORIAN
BEGIN:VEVENT
UID:event-164
DTSTAMP:20260419T120013Z
SUMMARY:VVRG Jaarafsluiting 2019
DESCRIPTION:Ben je niet in het bezit van een geldige defensiepas? meld je d
 an nu aan via de knop inschrijven. 
DTSTART:20191212T093000Z
DTEND:20191212T140000Z
LOCATION:Generaal Majoor de Ruyter van Steveninckkazerne
END:VEVENT
BEGIN:VTIMEZONE
TZID:UTC
BEGIN:STANDARD
DTSTART:20191212T093000
TZNAME:UTC
TZOFFSETTO:+0000
TZOFFSETFROM:+0000
END:STANDARD
END:VTIMEZONE
END:VCALENDAR
